BEGIN:VCALENDAR
VERSION:2.0
PRODID:-//Plone.org//NONSGML plone.app.event//EN
X-WR-TIMEZONE:Europe/Berlin
BEGIN:VEVENT
SUMMARY:Reading the Territory\, Interpreting the Landscape\, Designing the
  Future
DTSTART;VALUE=DATE:20260325
DTEND;VALUE=DATE:20260328
DTSTAMP;VALUE=DATE-TIME:20260421T153139Z
UID:6d03ae552c73438abbe8da6279ff99fb@www.isprambiente.gov.it
CREATED;VALUE=DATE-TIME:20260309T125051Z
DESCRIPTION:The landscape is not merely the sum of a territory’s geophys
 ical and climatic characteristics\; rather\, it is the result of the inter
 action between human beings and the environment. A dynamic synthesis of na
 ture and culture\, and of the ways in which communities have inhabited and
  transformed the land\, the landscape is the outcome of a stratification o
 f relationships that defines the identity of a place. It is the visible fo
 rm of the environment in its historical evolution: a space that is not onl
 y physical\, but also a reflection of our aesthetic perception and a guard
 ian of our emotional connections.
LAST-MODIFIED;VALUE=DATE-TIME:20260309T125056Z
LOCATION:Rome
URL:https://www.isprambiente.gov.it/en/news/reading-the-territory-interpre
 ting-the-landscape-designing-the-future
END:VEVENT
END:VCALENDAR
