BEGIN:VCALENDAR
VERSION:2.0
PRODID:-//Plone.org//NONSGML plone.app.event//EN
X-WR-TIMEZONE:Europe/Berlin
BEGIN:VEVENT
SUMMARY:Received by the President of the Republic the Presidents of the Re
 search Institutions
DTSTART;VALUE=DATE:20260422
DTEND;VALUE=DATE:20260423
DTSTAMP;VALUE=DATE-TIME:20260423T134117Z
UID:9c7c666fa0284b54a64513dfe594da7d@www.isprambiente.gov.it
CATEGORIES:evidence
CREATED;VALUE=DATE-TIME:20260423T080754Z
DESCRIPTION:The President of the Republic\,   Sergio Mattarella  \, receiv
 ed at the Quirinale a delegation of the Presidents of the Research Institu
 tions\, led by the Minister of University and Research\,   Anna Maria Bern
 ini  \, and by the President of the Council of Presidents of the Research 
 Institutions\,   Antonio Zoccoli  .   President Mattarella emphasized the 
 role of research for the future of our country and as a means of collabora
 tion and peace.   Also attending the meeting was the President of   ISPRA 
   and   SNPA  \,   Alessandra Gallone  .
LAST-MODIFIED;VALUE=DATE-TIME:20260423T112537Z
URL:https://www.isprambiente.gov.it/en/news/received-by-the-president-of-t
 he-republic-presidents-of-the-research-institutions
END:VEVENT
END:VCALENDAR
