BEGIN:VCALENDAR
VERSION:2.0
PRODID:-//Plone.org//NONSGML plone.app.event//EN
X-WR-TIMEZONE:Europe/Berlin
BEGIN:VEVENT
SUMMARY:Restoration Nature between Sustainability and Economy
DTSTART;TZID=Europe/Berlin;VALUE=DATE-TIME:20250610T163000
DTEND;TZID=Europe/Berlin;VALUE=DATE-TIME:20250610T183000
DTSTAMP;VALUE=DATE-TIME:20260425T183418Z
UID:5b71ac8cd73f424aa59065d5cb5c9942@www.isprambiente.gov.it
CREATED;VALUE=DATE-TIME:20250609T142915Z
DESCRIPTION:Is it enough to protect Nature or do we really need the Nature
  Restoration Law? Our species has caused enormous damage to Natural Capita
 l\, using it beyond its possibilities and significantly altering 75% of th
 e land and 66% of the seas. According to the IUCN\, in the next 30 years w
 e could lose half a million to a million species\, with catastrophic conse
 quences at the ecosystem level. So how should we proceed?
LAST-MODIFIED;VALUE=DATE-TIME:20250609T142921Z
LOCATION:Webinar
URL:https://www.isprambiente.gov.it/en/news/restoration-nature-between-sus
 tainability-and-economy
END:VEVENT
BEGIN:VTIMEZONE
TZID:Europe/Berlin
X-LIC-LOCATION:Europe/Berlin
BEGIN:DAYLIGHT
DTSTART;VALUE=DATE-TIME:20250330T030000
TZNAME:CEST
TZOFFSETFROM:+0100
TZOFFSETTO:+0200
END:DAYLIGHT
END:VTIMEZONE
END:VCALENDAR
