BEGIN:VCALENDAR
VERSION:2.0
PRODID:-//Plone.org//NONSGML plone.app.event//EN
X-WR-TIMEZONE:Europe/Berlin
BEGIN:VEVENT
SUMMARY:Restoration of the deltaic and marine habitat\, combating the prol
 iferation of the blue crab\, encouraging its use and consumption
DTSTART;TZID=Europe/Berlin;VALUE=DATE-TIME:20241106T100000
DTEND;TZID=Europe/Berlin;VALUE=DATE-TIME:20241106T130000
DTSTAMP;VALUE=DATE-TIME:20260423T202436Z
UID:e127a6fe0bbd4090b543f24d65ba641a@www.isprambiente.gov.it
CREATED;VALUE=DATE-TIME:20241024T085748Z
DESCRIPTION:The invasion of the blue crab in the Po Delta has upset the en
 tire venericulture sector in the Upper Adriatic. The predator Callinectes 
 sapidus has upset entire communities of women and men who lived directly o
 r indirectly on clams and who\, overnight\, found themselves disarmed and 
 unprepared to face an arduous\, complicated and difficult challenge. Despi
 te the honorable commitment of all institutions\, trade associations\, con
 sortia\, cooperatives and businesses\, today there is a collective awarene
 ss that it is necessary to react promptly with dedication\, commitment and
  sacrifices in order to pursue precise operational strategies\, well aware
  of the need to coexist with this crustacean.
LAST-MODIFIED;VALUE=DATE-TIME:20241106T104912Z
LOCATION:Ecomondo\, Rimini
URL:https://www.isprambiente.gov.it/en/news/restoration-of-the-deltaic-and
 -marine-habitat-combating-the-proliferation-of-the-blue-crab-encouraging-i
 ts-use-and-consumption
END:VEVENT
BEGIN:VTIMEZONE
TZID:Europe/Berlin
X-LIC-LOCATION:Europe/Berlin
BEGIN:STANDARD
DTSTART;VALUE=DATE-TIME:20241027T020000
TZNAME:CET
TZOFFSETFROM:+0200
TZOFFSETTO:+0100
END:STANDARD
END:VTIMEZONE
END:VCALENDAR
