BEGIN:VCALENDAR
VERSION:2.0
PRODID:-//Plone.org//NONSGML plone.app.event//EN
X-WR-TIMEZONE:Europe/Berlin
BEGIN:VEVENT
SUMMARY:ROV pilot course aimed at some of the Marine Protected Areas withi
 n the DigitAP Project
DTSTART;VALUE=DATE:20260209
DTEND;VALUE=DATE:20260214
DTSTAMP;VALUE=DATE-TIME:20260420T195611Z
UID:64133885407a4bb2817e50318b6c0049@www.isprambiente.gov.it
CREATED;VALUE=DATE-TIME:20260213T154037Z
DESCRIPTION:As part of the  DigitAP Project \, one of the technical traini
 ng sessions for ROV pilots concludes on February 13. The course\, aimed at
  Marine Protected Areas and managed by specialized economic operators who 
 won the tender\, ensures the full operational readiness of the equipment d
 elivered for the protection of our seas
LAST-MODIFIED;VALUE=DATE-TIME:20260302T071113Z
LOCATION:Ischia
URL:https://www.isprambiente.gov.it/en/news/rov-pilot-course-aimed-at-some
 -of-the-marine-protected-areas-within-the-digitap-project
END:VEVENT
END:VCALENDAR
