BEGIN:VCALENDAR
VERSION:2.0
PRODID:-//Plone.org//NONSGML plone.app.event//EN
X-WR-TIMEZONE:Europe/Berlin
BEGIN:VEVENT
SUMMARY:Soil Health by 2050: Strategic and Practical Implications of the E
 uropean Soil Monitoring Directive
DTSTART;VALUE=DATE:20260414
DTEND;VALUE=DATE:20260415
DTSTAMP;VALUE=DATE-TIME:20260421T173742Z
UID:f9c69d60715141afa47bc54f9d79b449@www.isprambiente.gov.it
CREATED;VALUE=DATE-TIME:20260401T090036Z
DESCRIPTION:The conference aims to explore the strategic and operational i
 mplications of the European Soil Monitoring Directive\, with a view to ach
 ieving the “healthy soils” objective by 2050. Particular attention wil
 l be given to measurement systems and soil health indicators\, as well as 
 their integration with the   Common Agricultural Policy   (CAP) and the Eu
 ropean   CRCF Regulation   on carbon credits.   The event will also examin
 e the role of public research and environmental agencies\, presenting regi
 onal experiences and case studies aimed at promoting innovation transfer a
 nd technical-professional advisory services.
LAST-MODIFIED;VALUE=DATE-TIME:20260401T090042Z
LOCATION:Azienda sperimentale “S’Appassiu”\, Uta (CA)
URL:https://www.isprambiente.gov.it/en/news/soil-health-by-2050-strategic-
 and-practical-implications-of-the-european-soil-monitoring-directive
END:VEVENT
END:VCALENDAR
