BEGIN:VCALENDAR
VERSION:2.0
PRODID:-//Plone.org//NONSGML plone.app.event//EN
X-WR-TIMEZONE:Europe/Berlin
BEGIN:VEVENT
SUMMARY:Stories in Stone: A Geological Journey Through the Basilicas of Ro
 me
DTSTART;VALUE=DATE:20260418
DTEND;VALUE=DATE:20260419
DTSTAMP;VALUE=DATE-TIME:20260422T023323Z
UID:4a2c3fecff91493b91a02d9362484b68@www.isprambiente.gov.it
CREATED;VALUE=DATE-TIME:20260401T085524Z
DESCRIPTION:As part of the  Festival of Science di Rome \,   ISPRA   is or
 ganizing\, on April 18\, the geological walk “Stories in Stone: A Geolog
 ical Journey Through the Basilicas of   Rome  .”   Rebuilt after the dev
 astating fire of 1823\, the   Basilica of Saint Paul Outside the Walls   r
 epresents an important example of the restoration of early Christian archi
 tecture\, while preserving its connection to its ancient origins. One of t
 he building’s distinctive features is the extensive use of ornamental st
 ones sourced from various areas of the Mediterranean.   The guided tour wi
 ll offer participants the opportunity to closely observe these lithologica
 l varieties\, appreciating not only their quality and aesthetic value\, bu
 t also their historical significance—providing a unique chance to discov
 er how architectural beauty intertwines with history and geology.
LAST-MODIFIED;VALUE=DATE-TIME:20260417T131122Z
LOCATION:Rome
URL:https://www.isprambiente.gov.it/en/news/stories-in-stone-a-geological-
 journey-through-the-basilicas-of-rome
END:VEVENT
END:VCALENDAR
