BEGIN:VCALENDAR
VERSION:2.0
PRODID:-//Plone.org//NONSGML plone.app.event//EN
X-WR-TIMEZONE:Europe/Berlin
BEGIN:VEVENT
SUMMARY:Summer school on Environmental Impact Assessment 2024: Biodiversit
 y and Water
DTSTART;VALUE=DATE:20240610
DTEND;VALUE=DATE:20240615
DTSTAMP;VALUE=DATE-TIME:20260422T040056Z
UID:54066760d2874376af04adfbe113b781@www.isprambiente.gov.it
CREATED;VALUE=DATE-TIME:20240418T081033Z
DESCRIPTION:ISPRA\, the University of Palermo\, the Regional Agency for th
 e Protection of the Environment of Sicily and the Municipality of Palermo 
 are organizing the Summer School on Environmental Impact Assessment which 
 will take place in Palermo from 10 to 14 June 2024.   This edition of the 
 Summer School aims to be the beginning of a series of study and in-depth a
 ctivities on issues relating to environmental assessments. In particular\,
  the focus of this first edition will be the environmental components Biod
 iversity and Water.       Further information     Program
LAST-MODIFIED;VALUE=DATE-TIME:20240613T080925Z
LOCATION:Palermo
URL:https://www.isprambiente.gov.it/en/news/summer-school-on-environmental
 -impact-assessment-2024-biodiversity-and-water
END:VEVENT
END:VCALENDAR
