BEGIN:VCALENDAR
VERSION:2.0
PRODID:-//Plone.org//NONSGML plone.app.event//EN
X-WR-TIMEZONE:Europe/Berlin
BEGIN:VEVENT
SUMMARY:Tales of monitoring and river molluscs
DTSTART;VALUE=DATE:20250201
DTEND;VALUE=DATE:20250202
DTSTAMP;VALUE=DATE-TIME:20260423T091652Z
UID:6624477eb5a24d2ea58124393387f92d@www.isprambiente.gov.it
CREATED;VALUE=DATE-TIME:20250130T145128Z
DESCRIPTION:On the occasion of  World Wetlands Day 2025 \, the Participato
 ry Science project "  #teveremolluschifantastici...e dove trovarli   " " i
 s organizing an excursion on 1 February to the Nazzano Tevere-Farfa Region
 al Nature Reserve to talk about river ecology\, freshwater molluscs and wa
 ter monitoring with practical experiments. The project aims to increase aw
 areness of river biodiversity and contribute to the conservation of inland
  water ecosystems\, also by mapping the presence and distribution of mollu
 scs\, with a pilot project on the Tevere river\; the data collected flows 
 into the portal of the National Biodiversity Network.
LAST-MODIFIED;VALUE=DATE-TIME:20250130T145132Z
LOCATION:Regional Nature Reserve Nazzano Tevere-Farfa
URL:https://www.isprambiente.gov.it/en/news/tales-of-monitoring-and-river-
 molluscs
END:VEVENT
END:VCALENDAR
