BEGIN:VCALENDAR
VERSION:2.0
PRODID:-//Plone.org//NONSGML plone.app.event//EN
X-WR-TIMEZONE:Europe/Berlin
BEGIN:VEVENT
SUMMARY:Territorializing the PNRR
DTSTART;VALUE=DATE:20260225
DTEND;VALUE=DATE:20260226
DTSTAMP;VALUE=DATE-TIME:20260425T183248Z
UID:83cae14a349a48de8bfa8edc38618024@www.isprambiente.gov.it
CREATED;VALUE=DATE-TIME:20260129T084508Z
DESCRIPTION:The conference “Territorializing the PNRR” will take place
  on 25 February in Venice at Iuav University. Among the participants in th
 e study day will be Michele Munafò\, Head of the Service for the National
  Environmental Information System at ISPRA.
LAST-MODIFIED;VALUE=DATE-TIME:20260129T084511Z
LOCATION:Università Iuav di Venezia
URL:https://www.isprambiente.gov.it/en/news/territorializing-the-pnrr
END:VEVENT
END:VCALENDAR
