BEGIN:VCALENDAR
VERSION:2.0
PRODID:-//Plone.org//NONSGML plone.app.event//EN
X-WR-TIMEZONE:Europe/Berlin
BEGIN:VEVENT
SUMMARY:The contribution of scientific research for the future of our moun
 tains
DTSTART;TZID=Europe/Berlin;VALUE=DATE-TIME:20250327T100000
DTEND;TZID=Europe/Berlin;VALUE=DATE-TIME:20250327T173000
DTSTAMP;VALUE=DATE-TIME:20260423T062125Z
UID:16c58d75440e4afa8c9466f8dc9d5950@www.isprambiente.gov.it
CREATED;VALUE=DATE-TIME:20250318T091205Z
DESCRIPTION:The day aims to foster a dialogue between scientific research 
 and mountain users/stakeholders\, with other Italian bodies operating in m
 ountain areas and with some representatives of civil society. This dialogu
 e will be structured around the research themes of the Mountain Working Gr
 oup\, regarding atmosphere\, climate\, biodiversity\, cryosphere\, geosphe
 re\, hydrosphere and mountain medicine\, also giving space to the project 
 in collaboration between CNR and CAI  "  I Rifugi Sentinella del Clima e 
 dell’Ambiente"
LAST-MODIFIED;VALUE=DATE-TIME:20250407T065815Z
LOCATION:Rome\, Aula Convegni\, CNR\, P.le Aldo moro 7
URL:https://www.isprambiente.gov.it/en/news/the-contribution-of-scientific
 -research-for-the-future-of-our-mountains
END:VEVENT
BEGIN:VTIMEZONE
TZID:Europe/Berlin
X-LIC-LOCATION:Europe/Berlin
BEGIN:STANDARD
DTSTART;VALUE=DATE-TIME:20241027T020000
TZNAME:CET
TZOFFSETFROM:+0200
TZOFFSETTO:+0100
END:STANDARD
END:VTIMEZONE
END:VCALENDAR
