BEGIN:VCALENDAR
VERSION:2.0
PRODID:-//Plone.org//NONSGML plone.app.event//EN
X-WR-TIMEZONE:Europe/Berlin
BEGIN:VEVENT
SUMMARY:The Frontiers of Ecotoxicology
DTSTART;TZID=Europe/Berlin;VALUE=DATE-TIME:20240226T090000
DTEND;TZID=Europe/Berlin;VALUE=DATE-TIME:20240226T133000
DTSTAMP;VALUE=DATE-TIME:20260423T004213Z
UID:a704a7c5f03e459eb3d7684fd21da362@www.isprambiente.gov.it
CREATED;VALUE=DATE-TIME:20240221T091650Z
DESCRIPTION:Organized by the Department of Pharmacy of the Federico Univer
 sity\, the meeting is aimed at highlighting the role of ecotoxicology in t
 he assessment of environmental quality and risk and the importance of the 
 ecotoxicological approach in environmental management and remediation. Exp
 erts from the university sector\, the CNR Water Research Institute\, ISPRA
 \,  Istituto Superiore di Sanità and Arpa Campania will participate as s
 peakers.
LAST-MODIFIED;VALUE=DATE-TIME:20240226T105339Z
LOCATION:Napoli
URL:https://www.isprambiente.gov.it/en/news/the-frontiers-of-ecotoxicology
END:VEVENT
BEGIN:VTIMEZONE
TZID:Europe/Berlin
X-LIC-LOCATION:Europe/Berlin
BEGIN:STANDARD
DTSTART;VALUE=DATE-TIME:20231029T020000
TZNAME:CET
TZOFFSETFROM:+0200
TZOFFSETTO:+0100
END:STANDARD
END:VTIMEZONE
END:VCALENDAR
