BEGIN:VCALENDAR
VERSION:2.0
PRODID:-//Plone.org//NONSGML plone.app.event//EN
X-WR-TIMEZONE:Europe/Berlin
BEGIN:VEVENT
SUMMARY:The new procedures for submitting the national environmental impac
 t assessment
DTSTART;VALUE=DATE:20241204
DTEND;VALUE=DATE:20241205
DTSTAMP;VALUE=DATE-TIME:20260422T034432Z
UID:7e526a97c1824918a991861f31a70544@www.isprambiente.gov.it
CREATED;VALUE=DATE-TIME:20241203T091748Z
DESCRIPTION:Analysis of the rules\, mechanisms and sector regulations   Th
 e seminar aims to examine in detail the regulatory and procedural aspects\
 , both at a national and regional level\, which govern the different phase
 s of the environmental impact assessment for the construction or modificat
 ion of plants from renewable sources. The meeting is part of the ambitious
  development objectives planned for the coming years\, as well as the most
  recent political-regulatory guidelines on environmental sustainability.
LAST-MODIFIED;VALUE=DATE-TIME:20241203T091805Z
LOCATION:Rome
URL:https://www.isprambiente.gov.it/en/news/the-new-procedures-for-submitt
 ing-the-national-environmental-impact-assessment
END:VEVENT
END:VCALENDAR
