BEGIN:VCALENDAR
VERSION:2.0
PRODID:-//Plone.org//NONSGML plone.app.event//EN
X-WR-TIMEZONE:Europe/Berlin
BEGIN:VEVENT
SUMMARY:The social value of cities. Vital suburbs: the new frontier of urb
 an living
DTSTART;VALUE=DATE:20260423
DTEND;VALUE=DATE:20260424
DTSTAMP;VALUE=DATE-TIME:20260422T201845Z
UID:b9acc60e0c50407d9f323868c6524a2c@www.isprambiente.gov.it
CREATED;VALUE=DATE-TIME:20260422T143925Z
DESCRIPTION:3rd One Health Report of the Campus Bio-medico   An opportunit
 y for institutions\, experts\, and stakeholders to reflect on the role of 
 suburbs as drivers of development\, inclusion\, and urban well-being. A mo
 ment of dialogue and exploration to jointly imagine more sustainable\, inc
 lusive cities focused on the health of people and ecosystems.
LAST-MODIFIED;VALUE=DATE-TIME:20260422T143936Z
LOCATION:Rome\, Palazzo Montecitorio\, Sala della Regina
URL:https://www.isprambiente.gov.it/en/news/the-social-value-of-cities-vit
 al-suburbs-the-new-frontier-of-urban-living
END:VEVENT
END:VCALENDAR
