BEGIN:VCALENDAR
VERSION:2.0
PRODID:-//Plone.org//NONSGML plone.app.event//EN
X-WR-TIMEZONE:Europe/Berlin
BEGIN:VEVENT
SUMMARY:Waste management and energy transition: challenges and opportuniti
 es in the new circular economy scenario
DTSTART;TZID=Europe/Berlin;VALUE=DATE-TIME:20241127T103000
DTEND;TZID=Europe/Berlin;VALUE=DATE-TIME:20241127T130000
DTSTAMP;VALUE=DATE-TIME:20260420T183238Z
UID:b1dda071b478448d8a03f41c449b8c35@www.isprambiente.gov.it
CREATED;VALUE=DATE-TIME:20241125T115419Z
DESCRIPTION:The event intends to deepen the debate on the challenges and o
 pportunities related to waste management and the circular economy\, analyz
 ing how current needs and practices are rapidly evolving\, paving the way 
 for new business models. Furthermore\, to identify best practices and winn
 ing strategies to address the challenges of the sector and understand how 
 emerging technologies\, together with innovative business models\, can hel
 p transform the way we think about and manage waste.
LAST-MODIFIED;VALUE=DATE-TIME:20241127T185820Z
LOCATION:Roma\, Palazzo Guglielmi – Piazza dei Ss. Apostoli 73
URL:https://www.isprambiente.gov.it/en/news/waste-management-and-energy-tr
 ansition-challenges-and-opportunities-in-the-new-circular-economy-scenario
END:VEVENT
BEGIN:VTIMEZONE
TZID:Europe/Berlin
X-LIC-LOCATION:Europe/Berlin
BEGIN:STANDARD
DTSTART;VALUE=DATE-TIME:20241027T020000
TZNAME:CET
TZOFFSETFROM:+0200
TZOFFSETTO:+0100
END:STANDARD
END:VTIMEZONE
END:VCALENDAR
