BEGIN:VCALENDAR
VERSION:2.0
PRODID:-//Plone.org//NONSGML plone.app.event//EN
X-WR-TIMEZONE:Europe/Berlin
BEGIN:VEVENT
SUMMARY:Water: between risks and opportunities
DTSTART;TZID=Europe/Berlin;VALUE=DATE-TIME:20240423T150000
DTEND;TZID=Europe/Berlin;VALUE=DATE-TIME:20240423T170000
DTSTAMP;VALUE=DATE-TIME:20260423T043156Z
UID:bee920e4eadf4a018e76d466978108a7@www.isprambiente.gov.it
CREATED;VALUE=DATE-TIME:20240423T115658Z
DESCRIPTION:The conference intends to analyze the importance of water in a
  world increasingly afflicted by extreme meteorological events. The confer
 ence addresses adaptation and mitigation challenges\, focusing on innovati
 ve initiatives to develop resilient urban ecosystems. The topic takes on p
 articular relevance in view of Roma Capitale's candidacy to host the World
  Water Forum in 2027\, recognizing the city as a strategic hub for address
 ing global water challenges. Two ISPRA experts will speak during the confe
 rence.
LAST-MODIFIED;VALUE=DATE-TIME:20240423T115705Z
LOCATION:TORINO - Environment Park - Via Livorno\, 60 e in streaming
URL:https://www.isprambiente.gov.it/en/news/water-between-risks-and-opport
 unities
END:VEVENT
BEGIN:VTIMEZONE
TZID:Europe/Berlin
X-LIC-LOCATION:Europe/Berlin
BEGIN:DAYLIGHT
DTSTART;VALUE=DATE-TIME:20240331T030000
TZNAME:CEST
TZOFFSETFROM:+0100
TZOFFSETTO:+0200
END:DAYLIGHT
END:VTIMEZONE
END:VCALENDAR
