BEGIN:VCALENDAR
VERSION:2.0
PRODID:-//Plone.org//NONSGML plone.app.event//EN
X-WR-TIMEZONE:Europe/Berlin
BEGIN:VEVENT
SUMMARY:Water intelligence. The evolution of technologies dedicated to wat
 er management
DTSTART;TZID=Europe/Berlin;VALUE=DATE-TIME:20240620T110000
DTEND;TZID=Europe/Berlin;VALUE=DATE-TIME:20240620T130000
DTSTAMP;VALUE=DATE-TIME:20260423T062013Z
UID:be5c3af1d38e4efca19ad38374350d77@www.isprambiente.gov.it
CREATED;VALUE=DATE-TIME:20240617T142901Z
DESCRIPTION:The ecological and digital transitions intersect on the manage
 ment of water resources\, to allow a more rational use of water\, reducing
  waste and directing consumption towards sustainability: these are the mai
 n themes of the Water intelligence report that will be presented on June 2
 0th
LAST-MODIFIED;VALUE=DATE-TIME:20240621T061903Z
LOCATION:Rome\, Confagricoltura\, Palazzo Della Valle
URL:https://www.isprambiente.gov.it/en/news/water-intelligence-the-evoluti
 on-of-technologies-dedicated-to-water-management
END:VEVENT
BEGIN:VTIMEZONE
TZID:Europe/Berlin
X-LIC-LOCATION:Europe/Berlin
BEGIN:DAYLIGHT
DTSTART;VALUE=DATE-TIME:20240331T030000
TZNAME:CEST
TZOFFSETFROM:+0100
TZOFFSETTO:+0200
END:DAYLIGHT
END:VTIMEZONE
END:VCALENDAR
