BEGIN:VCALENDAR
VERSION:2.0
PRODID:-//Plone.org//NONSGML plone.app.event//EN
X-WR-TIMEZONE:Europe/Berlin
BEGIN:VEVENT
SUMMARY:Water resource: sustainability and efficiency in the most water-de
 manding production sectors
DTSTART;TZID=Europe/Berlin;VALUE=DATE-TIME:20240529T093000
DTEND;TZID=Europe/Berlin;VALUE=DATE-TIME:20240529T133000
DTSTAMP;VALUE=DATE-TIME:20260423T045623Z
UID:d3f938eadc1f4417ad8dd621c109ee5b@www.isprambiente.gov.it
CREATED;VALUE=DATE-TIME:20240515T114346Z
DESCRIPTION:Focus and correct application of regulations to reduce environ
 mental impact   On 29 May Assosistema Confindustria organizes the event in
  Rome\, in the Chamber of Deputies: "Water resources: sustainability and e
 fficiency in the most hydro-demanding production sectors. Focus and correc
 t application of regulations to reduce environmental impact" During the co
 nference the topics will be those of sustainability and the correct use of
  water resources\; furthermore\, the Paper on environmental standards\, co
 ntrols and procedures in health and social care facilities drawn up by Ass
 osistema Confindustria will be presented for the first time
LAST-MODIFIED;VALUE=DATE-TIME:20240605T094251Z
LOCATION:Rome
URL:https://www.isprambiente.gov.it/en/news/water-resource-sustainability-
 and-efficiency-in-the-most-water-demanding-production-sectors
END:VEVENT
BEGIN:VTIMEZONE
TZID:Europe/Berlin
X-LIC-LOCATION:Europe/Berlin
BEGIN:DAYLIGHT
DTSTART;VALUE=DATE-TIME:20240331T030000
TZNAME:CEST
TZOFFSETFROM:+0100
TZOFFSETTO:+0200
END:DAYLIGHT
END:VTIMEZONE
END:VCALENDAR
