BEGIN:VCALENDAR
VERSION:2.0
PRODID:-//Plone.org//NONSGML plone.app.event//EN
X-WR-TIMEZONE:Europe/Berlin
BEGIN:VEVENT
SUMMARY:Water Resources and Resilience: Towards the Fourth Water Managemen
 t Cycle
DTSTART;TZID=Europe/Berlin;VALUE=DATE-TIME:20260313T093000
DTEND;TZID=Europe/Berlin;VALUE=DATE-TIME:20260313T123000
DTSTAMP;VALUE=DATE-TIME:20260421T153309Z
UID:37862e4b6e6d47f698ed3e07fa19a309@www.isprambiente.gov.it
CREATED;VALUE=DATE-TIME:20260310T145751Z
DESCRIPTION:The conference "Water Resources and Resilience. Towards the Fo
 urth Cycle of Water Management\," sponsored by the Ministry and ISPRA\, wi
 ll be held at MASE on Friday\, March 13. In a rapidly evolving climate\, t
 he conference focuses on water resource governance as a strategic priority
  for environmental protection and sustainable development\, looking ahead 
 to the fourth planning cycle in the sector.
LAST-MODIFIED;VALUE=DATE-TIME:20260315T222625Z
LOCATION:Rome\, MASE – Auditorium\, Viale Cristoforo Colombo\, 44
URL:https://www.isprambiente.gov.it/en/news/water-resources-and-resilience
 -towards-the-fourth-water-management-cycle
END:VEVENT
BEGIN:VTIMEZONE
TZID:Europe/Berlin
X-LIC-LOCATION:Europe/Berlin
BEGIN:STANDARD
DTSTART;VALUE=DATE-TIME:20251026T020000
TZNAME:CET
TZOFFSETFROM:+0200
TZOFFSETTO:+0100
END:STANDARD
END:VTIMEZONE
END:VCALENDAR
