BEGIN:VCALENDAR
VERSION:2.0
PRODID:-//Plone.org//NONSGML plone.app.event//EN
X-WR-TIMEZONE:Europe/Berlin
BEGIN:VEVENT
SUMMARY:Water Summit 2025
DTSTART;TZID=Europe/Berlin;VALUE=DATE-TIME:20250619T093000
DTEND;TZID=Europe/Berlin;VALUE=DATE-TIME:20250619T130000
DTSTAMP;VALUE=DATE-TIME:20260423T030041Z
UID:985cf1be059845b299f6431e6aab03c1@www.isprambiente.gov.it
CREATED;VALUE=DATE-TIME:20250618T084037Z
DESCRIPTION:Resource of the future and impact on businesses   2025 is a cr
 ucial year to try to move from a state of permanent water crisis in our co
 untry to one of prevention of damage caused by climate change.   During Wa
 ter Summit\, a snapshot will be drawn of what is being done in the territo
 ry thanks to the National Plan for Infrastructure Interventions and for th
 e Safety of the Water Sector.
LAST-MODIFIED;VALUE=DATE-TIME:20250627T081510Z
LOCATION:Milano and online
URL:https://www.isprambiente.gov.it/en/news/water-summit-2025
END:VEVENT
BEGIN:VTIMEZONE
TZID:Europe/Berlin
X-LIC-LOCATION:Europe/Berlin
BEGIN:DAYLIGHT
DTSTART;VALUE=DATE-TIME:20250330T030000
TZNAME:CEST
TZOFFSETFROM:+0100
TZOFFSETTO:+0200
END:DAYLIGHT
END:VTIMEZONE
END:VCALENDAR
