BEGIN:VCALENDAR
VERSION:2.0
PRODID:-//Plone.org//NONSGML plone.app.event//EN
X-WR-TIMEZONE:Europe/Berlin
BEGIN:VEVENT
SUMMARY:World Earth Day 2026
DTSTART;VALUE=DATE:20260422
DTEND;VALUE=DATE:20260423
DTSTAMP;VALUE=DATE-TIME:20260422T201217Z
UID:d6cc757c261b4f3b99f1db6050aaa98d@www.isprambiente.gov.it
CATEGORIES:highlight
CREATED;VALUE=DATE-TIME:20260422T143236Z
DESCRIPTION:Dedicated events\, outreach initiatives\, educational campaign
 s: ISPRA is at the forefront of World Earth Day. President M. Alessandra G
 allone said: ​​"The Earth is not just the space we inhabit\; it is the
  living system that supports us\, protects us\, and demands responsibility
 . On this World Earth Day\, we must remember that every choice—public an
 d private—has an impact on our future."   ISPRA and the National System 
 for Environmental Protection (SNPA) are providing data\, monitoring\, and 
 knowledge to support the work of institutions and local communities.   "We
  need a new awareness to transform sustainability into concrete action\, t
 aking care of ourselves and future generations."
LAST-MODIFIED;VALUE=DATE-TIME:20260422T143328Z
URL:https://www.isprambiente.gov.it/en/news/world-earth-day-2026
END:VEVENT
END:VCALENDAR
