BEGIN:VCALENDAR
VERSION:2.0
PRODID:-//Plone.org//NONSGML plone.app.event//EN
X-WR-TIMEZONE:Europe/Berlin
BEGIN:VEVENT
SUMMARY:World Earth Day
DTSTART;VALUE=DATE:20250422
DTEND;VALUE=DATE:20250423
DTSTAMP;VALUE=DATE-TIME:20260424T042102Z
UID:5ced23954fb944a9aed1d2766f8030c2@www.isprambiente.gov.it
CREATED;VALUE=DATE-TIME:20250416T151411Z
DESCRIPTION:April 22 is theWorld Earth Day\, an opportunity to raise aware
 ness among citizens\, companies and institutions about the importance of p
 rotecting our planet. This event\, now in its 55th edition\, has as its ma
 in objective to promote concrete actions to combat climate change\, reduce
  pollution and protect natural resources.
LAST-MODIFIED;VALUE=DATE-TIME:20250423T074004Z
URL:https://www.isprambiente.gov.it/en/news/world-earth-day
END:VEVENT
END:VCALENDAR
