BEGIN:VCALENDAR
VERSION:2.0
PRODID:-//Plone.org//NONSGML plone.app.event//EN
X-WR-TIMEZONE:Europe/Berlin
BEGIN:VEVENT
SUMMARY:World Water Day 2025
DTSTART;VALUE=DATE:20250322
DTEND;VALUE=DATE:20250323
DTSTAMP;VALUE=DATE-TIME:20260423T060952Z
UID:8421fc195c3b4ff58cb6607308ac9ab5@www.isprambiente.gov.it
CREATED;VALUE=DATE-TIME:20250314T094442Z
DESCRIPTION:World Water Day  is celebrated on March 22\, an annual United 
 Nations observance focused on the importance of fresh water. With over 2 b
 illion people living without access to clean water\, action is essential t
 o address the global water crisis. A key goal of World Water Day is to sup
 port the achievement of Sustainable Development Goal 6: Water\, sanitation
  and hygiene for all by 2030.
LAST-MODIFIED;VALUE=DATE-TIME:20250320T123045Z
URL:https://www.isprambiente.gov.it/en/news/world-water-day-2025
END:VEVENT
END:VCALENDAR
