BEGIN:VCALENDAR
VERSION:2.0
PRODID:-//Plone.org//NONSGML plone.app.event//EN
X-WR-TIMEZONE:Europe/Berlin
BEGIN:VEVENT
SUMMARY:World Water Forum. Bali 18-25 May 2024
DTSTART;VALUE=DATE:20240518
DTEND;VALUE=DATE:20240526
DTSTAMP;VALUE=DATE-TIME:20260423T061520Z
UID:dcf9eaa5d19b4a46949ca45feecd2fa1@www.isprambiente.gov.it
CREATED;VALUE=DATE-TIME:20240412T150657Z
DESCRIPTION:The 10th World Water Forum will be held in Bali\, Indonesia fr
 om 18 to 25 May. The theme of this edition is Water for shared prosperity.
  The  World Water Forum  brings together political and civil society repre
 sentatives\, public authorities\, academics and the private sector to addr
 ess global challenges related to the management and sustainability of wate
 r resources.
LAST-MODIFIED;VALUE=DATE-TIME:20240520T063916Z
LOCATION:Bali-Indonesia
URL:https://www.isprambiente.gov.it/en/news/world-water-forum-bali-18-25-m
 ay-2024
END:VEVENT
END:VCALENDAR
