BEGIN:VCALENDAR
VERSION:2.0
PRODID:-//Plone.org//NONSGML plone.app.event//EN
X-WR-TIMEZONE:Europe/Berlin
BEGIN:VEVENT
SUMMARY:XIX meeting of the National Network of Mining Parks and Museums - 
 ReMi
DTSTART;VALUE=DATE:20250620
DTEND;VALUE=DATE:20250623
DTSTAMP;VALUE=DATE-TIME:20260420T025917Z
UID:af09e7897c6545da8b40ad6e4a9f4143@www.isprambiente.gov.it
CREATED;VALUE=DATE-TIME:20250612T120029Z
DESCRIPTION:As part of the  GEOSCIENCES IR  project\, the 19th meeting of 
 the  National Network of Mining Parks and Museums ReMi-ISPRA  will be held
  on 20\, 21 and 22 June 2025 at the Sala Borsellino in San Cataldo (Caltan
 issetta)\, in collaboration with UNICT\, UNIPA\, the Gabara Park\, the Mun
 icipality of San Cataldo and the patronage of the Regional Order of Geolog
 ists.
LAST-MODIFIED;VALUE=DATE-TIME:20250703T062255Z
LOCATION:San Cataldo
URL:https://www.isprambiente.gov.it/en/news/xix-meeting-of-the-national-ne
 twork-of-mining-parks-and-museums-remi
END:VEVENT
END:VCALENDAR
