BEGIN:VCALENDAR
VERSION:2.0
PRODID:-//Plone.org//NONSGML plone.app.event//EN
X-WR-TIMEZONE:Europe/Berlin
BEGIN:VEVENT
SUMMARY:Corso di formazione ambientale: “I foraminiferi bentonici: indic
 atori ambientali di aree marino-costiere a elevato impatto antropico”
DTSTART;TZID=Europe/Berlin;VALUE=DATE-TIME:20130528T090000
DTEND;TZID=Europe/Berlin;VALUE=DATE-TIME:20130530T173000
DTSTAMP;VALUE=DATE-TIME:20260423T025608Z
UID:4b0cefd36a3d4616a5fe96b9c5c3c2ea@www.isprambiente.gov.it
CREATED;VALUE=DATE-TIME:20130411T123519Z
LAST-MODIFIED;VALUE=DATE-TIME:20230120T134244Z
LOCATION:Roma\, ISPRA\, Via Vitaliano Brancati\, 48\, Sala Conferenze
URL:https://www.isprambiente.gov.it/it/archivio/eventi/2013/05/corso-di-fo
 rmazione-ambientale-i-foraminiferi-bentonici
END:VEVENT
BEGIN:VTIMEZONE
TZID:Europe/Berlin
X-LIC-LOCATION:Europe/Berlin
BEGIN:DAYLIGHT
DTSTART;VALUE=DATE-TIME:20130331T030000
TZNAME:CEST
TZOFFSETFROM:+0100
TZOFFSETTO:+0200
END:DAYLIGHT
END:VTIMEZONE
END:VCALENDAR
