BEGIN:VCALENDAR
VERSION:2.0
PRODID:-//Plone.org//NONSGML plone.app.event//EN
X-WR-TIMEZONE:Europe/Berlin
BEGIN:VEVENT
SUMMARY:La ricerca marina per ISPRA: oltre i progetti per una società con
 sapevole
DTSTART;TZID=Europe/Berlin;VALUE=DATE-TIME:20130730T090000
DTEND;TZID=Europe/Berlin;VALUE=DATE-TIME:20130731T164500
DTSTAMP;VALUE=DATE-TIME:20260423T025426Z
UID:974235b7d04c4666875c03a8ea6a6d59@www.isprambiente.gov.it
CREATED;VALUE=DATE-TIME:20130723T172239Z
LAST-MODIFIED;VALUE=DATE-TIME:20230120T134244Z
LOCATION:Sede Unicef\, Via Palestro 68\, Roma
URL:https://www.isprambiente.gov.it/it/archivio/eventi/2013/07/la-ricerca-
 marina-per-ispra
END:VEVENT
BEGIN:VTIMEZONE
TZID:Europe/Berlin
X-LIC-LOCATION:Europe/Berlin
BEGIN:DAYLIGHT
DTSTART;VALUE=DATE-TIME:20130331T030000
TZNAME:CEST
TZOFFSETFROM:+0100
TZOFFSETTO:+0200
END:DAYLIGHT
END:VTIMEZONE
END:VCALENDAR
