BEGIN:VCALENDAR
VERSION:2.0
PRODID:-//Plone.org//NONSGML plone.app.event//EN
X-WR-TIMEZONE:Europe/Berlin
BEGIN:VEVENT
SUMMARY:Presentazione Annuario dei dati ambientali 2012
DTSTART;TZID=Europe/Berlin;VALUE=DATE-TIME:20130717T090000
DTEND;TZID=Europe/Berlin;VALUE=DATE-TIME:20130717T130000
DTSTAMP;VALUE=DATE-TIME:20260423T025524Z
UID:b67acf23067346f1af41234819c76602@www.isprambiente.gov.it
CREATED;VALUE=DATE-TIME:20130705T150707Z
LAST-MODIFIED;VALUE=DATE-TIME:20230120T134244Z
LOCATION:Roma\, Camera dei Deputati
URL:https://www.isprambiente.gov.it/it/archivio/eventi/2013/07/presentazio
 ne-annuario-dei-dati-ambientali-2012
END:VEVENT
BEGIN:VTIMEZONE
TZID:Europe/Berlin
X-LIC-LOCATION:Europe/Berlin
BEGIN:DAYLIGHT
DTSTART;VALUE=DATE-TIME:20130331T030000
TZNAME:CEST
TZOFFSETFROM:+0100
TZOFFSETTO:+0200
END:DAYLIGHT
END:VTIMEZONE
END:VCALENDAR
