BEGIN:VCALENDAR
VERSION:2.0
PRODID:-//Plone.org//NONSGML plone.app.event//EN
X-WR-TIMEZONE:Europe/Berlin
BEGIN:VEVENT
SUMMARY:IX Rapporto ISPRA “Qualità dell’ambiente urbano” Edizione 2
 013
DTSTART;TZID=Europe/Berlin;VALUE=DATE-TIME:20131011T090000
DTEND;TZID=Europe/Berlin;VALUE=DATE-TIME:20131011T170000
DTSTAMP;VALUE=DATE-TIME:20260423T025648Z
UID:4267e2abc7f2419ebebd0d5993d57ca0@www.isprambiente.gov.it
CREATED;VALUE=DATE-TIME:20130925T120337Z
LAST-MODIFIED;VALUE=DATE-TIME:20230120T134244Z
LOCATION:Roma\, Acquario Romano - Piazza Manfredo Fanti\, 47
URL:https://www.isprambiente.gov.it/it/archivio/eventi/2013/10/ix-rapporto
 -ispra-201cqualita-dell2019ambiente-urbano201d-edizione-2013
END:VEVENT
BEGIN:VTIMEZONE
TZID:Europe/Berlin
X-LIC-LOCATION:Europe/Berlin
BEGIN:DAYLIGHT
DTSTART;VALUE=DATE-TIME:20130331T030000
TZNAME:CEST
TZOFFSETFROM:+0100
TZOFFSETTO:+0200
END:DAYLIGHT
END:VTIMEZONE
END:VCALENDAR
