BEGIN:VCALENDAR
VERSION:2.0
PRODID:-//Plone.org//NONSGML plone.app.event//EN
X-WR-TIMEZONE:Europe/Berlin
BEGIN:VEVENT
SUMMARY:Interconnessioni tra la Direttiva Alluvioni e la Direttiva Quadro 
 Acque
DTSTART;TZID=Europe/Berlin;VALUE=DATE-TIME:20141008T140000
DTEND;TZID=Europe/Berlin;VALUE=DATE-TIME:20141010T130000
DTSTAMP;VALUE=DATE-TIME:20260423T025231Z
UID:e1857642d4854101af3d8ebd36e1fcc3@www.isprambiente.gov.it
CREATED;VALUE=DATE-TIME:20140724T163049Z
LAST-MODIFIED;VALUE=DATE-TIME:20230120T134244Z
LOCATION:Roma\, Società Geografica Italiana - Palazzetto Mattei in Villa 
 Celimontana - Via della Navicella\, 12
URL:https://www.isprambiente.gov.it/it/archivio/eventi/2014/10/interconnes
 sioni
END:VEVENT
BEGIN:VTIMEZONE
TZID:Europe/Berlin
X-LIC-LOCATION:Europe/Berlin
BEGIN:DAYLIGHT
DTSTART;VALUE=DATE-TIME:20140330T030000
TZNAME:CEST
TZOFFSETFROM:+0100
TZOFFSETTO:+0200
END:DAYLIGHT
END:VTIMEZONE
END:VCALENDAR
