BEGIN:VCALENDAR
VERSION:2.0
PRODID:-//Plone.org//NONSGML plone.app.event//EN
X-WR-TIMEZONE:Europe/Berlin
BEGIN:VEVENT
SUMMARY:Escursione: Il Lago del Turano e la Grande Diga. Un percorso geolo
 gico e naturalistico lungo la strada turanense tra Lazio e Abruzzo
DTSTART;TZID=Europe/Berlin;VALUE=DATE-TIME:20141018T093000
DTEND;TZID=Europe/Berlin;VALUE=DATE-TIME:20141018T183000
DTSTAMP;VALUE=DATE-TIME:20260423T110232Z
UID:b179e456f8db4f74804a895c0bac60eb@www.isprambiente.gov.it
CREATED;VALUE=DATE-TIME:20141008T095902Z
LAST-MODIFIED;VALUE=DATE-TIME:20230120T134244Z
LOCATION:Roccasinibalda (RI)\, Castel di Tora (RI)\, Carsoli (AQ)
URL:https://www.isprambiente.gov.it/it/archivio/eventi/2014/10/settimana-d
 el-pianeta-terra-l2019italia-alla-scoperta-delle-geoscienze
END:VEVENT
BEGIN:VTIMEZONE
TZID:Europe/Berlin
X-LIC-LOCATION:Europe/Berlin
BEGIN:DAYLIGHT
DTSTART;VALUE=DATE-TIME:20140330T030000
TZNAME:CEST
TZOFFSETFROM:+0100
TZOFFSETTO:+0200
END:DAYLIGHT
END:VTIMEZONE
END:VCALENDAR
