BEGIN:VCALENDAR
VERSION:2.0
PRODID:-//Plone.org//NONSGML plone.app.event//EN
X-WR-TIMEZONE:Europe/Berlin
BEGIN:VEVENT
SUMMARY:Workshop "LINKVIT" nell’Ambito della Conferenza ASITA 2014
DTSTART;TZID=Europe/Berlin;VALUE=DATE-TIME:20141014T140000
DTEND;TZID=Europe/Berlin;VALUE=DATE-TIME:20141014T180000
DTSTAMP;VALUE=DATE-TIME:20260423T104538Z
UID:a229b9ba30a14b338f45898136e7763d@www.isprambiente.gov.it
CREATED;VALUE=DATE-TIME:20140919T134921Z
LAST-MODIFIED;VALUE=DATE-TIME:20230120T134244Z
LOCATION:Firenze
URL:https://www.isprambiente.gov.it/it/archivio/eventi/2014/10/workshop-li
 nkvit-nell2019ambito-della-conferenza-asita-2014
END:VEVENT
BEGIN:VTIMEZONE
TZID:Europe/Berlin
X-LIC-LOCATION:Europe/Berlin
BEGIN:DAYLIGHT
DTSTART;VALUE=DATE-TIME:20140330T030000
TZNAME:CEST
TZOFFSETFROM:+0100
TZOFFSETTO:+0200
END:DAYLIGHT
END:VTIMEZONE
END:VCALENDAR
