BEGIN:VCALENDAR
VERSION:2.0
PRODID:-//Plone.org//NONSGML plone.app.event//EN
X-WR-TIMEZONE:Europe/Berlin
BEGIN:VEVENT
SUMMARY:Determinazione analitica degli idrocarburi nell'ambiente: problema
 tiche e risposte
DTSTART;TZID=Europe/Berlin;VALUE=DATE-TIME:20141126T100000
DTEND;TZID=Europe/Berlin;VALUE=DATE-TIME:20141126T133000
DTSTAMP;VALUE=DATE-TIME:20260423T025426Z
UID:81b897a0320844e48cfa149a8778dc67@www.isprambiente.gov.it
CREATED;VALUE=DATE-TIME:20141110T085657Z
DESCRIPTION:     
LAST-MODIFIED;VALUE=DATE-TIME:20230120T134244Z
LOCATION:Roma - ISPRA\, Sala Conferenze\, Via V. Brancati 48
URL:https://www.isprambiente.gov.it/it/archivio/eventi/2014/11/determinazi
 one-analitica-degli-idrocarburi-nellambiente-problematiche-e-risposte
END:VEVENT
BEGIN:VTIMEZONE
TZID:Europe/Berlin
X-LIC-LOCATION:Europe/Berlin
BEGIN:STANDARD
DTSTART;VALUE=DATE-TIME:20141026T020000
TZNAME:CET
TZOFFSETFROM:+0200
TZOFFSETTO:+0100
END:STANDARD
END:VTIMEZONE
END:VCALENDAR
