BEGIN:VCALENDAR
VERSION:2.0
PRODID:-//Plone.org//NONSGML plone.app.event//EN
X-WR-TIMEZONE:Europe/Berlin
BEGIN:VEVENT
SUMMARY:X Rapporto ISPRA “Qualità dell’ambiente urbano” Edizione 20
 14
DTSTART;TZID=Europe/Berlin;VALUE=DATE-TIME:20141218T090000
DTEND;TZID=Europe/Berlin;VALUE=DATE-TIME:20141218T140000
DTSTAMP;VALUE=DATE-TIME:20260422T231330Z
UID:7ac7b15bf4fa43b5a1d7c4e71aca6158@www.isprambiente.gov.it
CREATED;VALUE=DATE-TIME:20141126T105048Z
LAST-MODIFIED;VALUE=DATE-TIME:20230120T134244Z
LOCATION:Roma\, Sala UNICEF\, Via Palestro\, 68 
URL:https://www.isprambiente.gov.it/it/archivio/eventi/2014/12/x-rapporto-
 ispra-201cqualita-dell2019ambiente-urbano201d-edizione-2014
END:VEVENT
BEGIN:VTIMEZONE
TZID:Europe/Berlin
X-LIC-LOCATION:Europe/Berlin
BEGIN:STANDARD
DTSTART;VALUE=DATE-TIME:20141026T020000
TZNAME:CET
TZOFFSETFROM:+0200
TZOFFSETTO:+0100
END:STANDARD
END:VTIMEZONE
END:VCALENDAR
