BEGIN:VCALENDAR
VERSION:2.0
PRODID:-//Plone.org//NONSGML plone.app.event//EN
X-WR-TIMEZONE:Europe/Berlin
BEGIN:VEVENT
SUMMARY:Condividiamo i nostri percorsi! Presentazione e test di un navigat
 ore per ciclisti
DTSTART;TZID=Europe/Berlin;VALUE=DATE-TIME:20140417T100000
DTEND;TZID=Europe/Berlin;VALUE=DATE-TIME:20140417T130000
DTSTAMP;VALUE=DATE-TIME:20260420T140711Z
UID:3276a4152f0b4178a0f3d3db7a79fdb0@www.isprambiente.gov.it
CREATED;VALUE=DATE-TIME:20140415T171820Z
LAST-MODIFIED;VALUE=DATE-TIME:20230120T134244Z
LOCATION:Roma
URL:https://www.isprambiente.gov.it/it/archivio/eventi/2014/aprile/condivi
 diamo-i-nostri-percorsi
END:VEVENT
BEGIN:VTIMEZONE
TZID:Europe/Berlin
X-LIC-LOCATION:Europe/Berlin
BEGIN:DAYLIGHT
DTSTART;VALUE=DATE-TIME:20140330T030000
TZNAME:CEST
TZOFFSETFROM:+0100
TZOFFSETTO:+0200
END:DAYLIGHT
END:VTIMEZONE
END:VCALENDAR
