BEGIN:VCALENDAR
VERSION:2.0
PRODID:-//Plone.org//NONSGML plone.app.event//EN
X-WR-TIMEZONE:Europe/Berlin
BEGIN:VEVENT
SUMMARY:Sistema di valutazione idromorfologica\, analisi e monitoraggio de
 i corsi d’acqua (IDRAIM)
DTSTART;TZID=Europe/Berlin;VALUE=DATE-TIME:20140508T090000
DTEND;TZID=Europe/Berlin;VALUE=DATE-TIME:20140508T170000
DTSTAMP;VALUE=DATE-TIME:20260423T030611Z
UID:06cc156a79f849679ea8a7b88f3c36be@www.isprambiente.gov.it
CREATED;VALUE=DATE-TIME:20140415T160750Z
LAST-MODIFIED;VALUE=DATE-TIME:20230120T134244Z
LOCATION:Roma\, Università degli Studi "La Sapienza" - Sala del Chiostro\
 , Facoltà di Ingegneria\, Via Eudossiana 18
URL:https://www.isprambiente.gov.it/it/archivio/eventi/2014/maggio/sistema
 -di-valutazione-idromorfologica-analisi-e-monitoraggio-dei-corsi-d2019acqu
 a-idraim
END:VEVENT
BEGIN:VTIMEZONE
TZID:Europe/Berlin
X-LIC-LOCATION:Europe/Berlin
BEGIN:DAYLIGHT
DTSTART;VALUE=DATE-TIME:20140330T030000
TZNAME:CEST
TZOFFSETFROM:+0100
TZOFFSETTO:+0200
END:DAYLIGHT
END:VTIMEZONE
END:VCALENDAR
