BEGIN:VCALENDAR
VERSION:2.0
PRODID:-//Plone.org//NONSGML plone.app.event//EN
X-WR-TIMEZONE:Europe/Berlin
BEGIN:VEVENT
SUMMARY:Gestione dell’Erosione costiera: linee guida nazionali
DTSTART;TZID=Europe/Berlin;VALUE=DATE-TIME:20160429T090000
DTEND;TZID=Europe/Berlin;VALUE=DATE-TIME:20160429T170000
DTSTAMP;VALUE=DATE-TIME:20260423T075019Z
UID:27b87fa2b8ac4cf98034e4668b2b4f64@www.isprambiente.gov.it
CREATED;VALUE=DATE-TIME:20160406T123951Z
LAST-MODIFIED;VALUE=DATE-TIME:20230120T134220Z
LOCATION:Roma\, sala Auditorium MATTM\, Via Capitan Bavastro\, 174
URL:https://www.isprambiente.gov.it/it/archivio/eventi/2016/04/gestione-de
 ll2019erosione-costiera-linee-guida-nazionali
END:VEVENT
BEGIN:VTIMEZONE
TZID:Europe/Berlin
X-LIC-LOCATION:Europe/Berlin
BEGIN:DAYLIGHT
DTSTART;VALUE=DATE-TIME:20160327T030000
TZNAME:CEST
TZOFFSETFROM:+0100
TZOFFSETTO:+0200
END:DAYLIGHT
END:VTIMEZONE
END:VCALENDAR
