BEGIN:VCALENDAR
VERSION:2.0
PRODID:-//Plone.org//NONSGML plone.app.event//EN
X-WR-TIMEZONE:Europe/Berlin
BEGIN:VEVENT
SUMMARY:Conferenza dell’iniziativa di programmazione congiunta della ric
 erca sull’acqua - Water JPI “Water Challenges for a Changing World” 
DTSTART;TZID=Europe/Berlin;VALUE=DATE-TIME:20160519T090000
DTEND;TZID=Europe/Berlin;VALUE=DATE-TIME:20160519T173000
DTSTAMP;VALUE=DATE-TIME:20260423T061754Z
UID:00ce376ee45047beb6f816564935177c@www.isprambiente.gov.it
CREATED;VALUE=DATE-TIME:20160317T082954Z
LAST-MODIFIED;VALUE=DATE-TIME:20230120T134220Z
LOCATION:Roma\, Centro Congressi Roma Eventi - Fontana di Trevi
URL:https://www.isprambiente.gov.it/it/archivio/eventi/2016/05/conferenza-
 dell-iniziativa-di-programmazione-congiunta-della-ricerca-sull-acqua
END:VEVENT
BEGIN:VTIMEZONE
TZID:Europe/Berlin
X-LIC-LOCATION:Europe/Berlin
BEGIN:DAYLIGHT
DTSTART;VALUE=DATE-TIME:20160327T030000
TZNAME:CEST
TZOFFSETFROM:+0100
TZOFFSETTO:+0200
END:DAYLIGHT
END:VTIMEZONE
END:VCALENDAR
