BEGIN:VCALENDAR
VERSION:2.0
PRODID:-//Plone.org//NONSGML plone.app.event//EN
X-WR-TIMEZONE:Europe/Berlin
BEGIN:VEVENT
SUMMARY:Presentazione del Rapporto ISPRA "Trasporto marittimo e gestione a
 mbientale nelle aree portuali italiane"
DTSTART;TZID=Europe/Berlin;VALUE=DATE-TIME:20160517T093000
DTEND;TZID=Europe/Berlin;VALUE=DATE-TIME:20160517T130000
DTSTAMP;VALUE=DATE-TIME:20260423T062217Z
UID:ae384a9feafb48c38e6250b625d3ecc2@www.isprambiente.gov.it
CREATED;VALUE=DATE-TIME:20160502T142411Z
LAST-MODIFIED;VALUE=DATE-TIME:20230120T134232Z
LOCATION:Roma\, ISPRA\, Sala Auditorium\, Via V. Brancati 48
URL:https://www.isprambiente.gov.it/it/archivio/eventi/2016/05/presentazio
 ne-del-rapporto-ispra-trasporto-marittimo-e-gestione-ambientale-nelle-aree
 -portuali-italiane
END:VEVENT
BEGIN:VTIMEZONE
TZID:Europe/Berlin
X-LIC-LOCATION:Europe/Berlin
BEGIN:DAYLIGHT
DTSTART;VALUE=DATE-TIME:20160327T030000
TZNAME:CEST
TZOFFSETFROM:+0100
TZOFFSETTO:+0200
END:DAYLIGHT
END:VTIMEZONE
END:VCALENDAR
