BEGIN:VCALENDAR
VERSION:2.0
PRODID:-//Plone.org//NONSGML plone.app.event//EN
X-WR-TIMEZONE:Europe/Berlin
BEGIN:VEVENT
SUMMARY:Presentazione del volume "Biology\, ecology and culture of grey mu
 llet (Mugilidae)"
DTSTART;TZID=Europe/Berlin;VALUE=DATE-TIME:20161028T093000
DTEND;TZID=Europe/Berlin;VALUE=DATE-TIME:20161028T120000
DTSTAMP;VALUE=DATE-TIME:20260423T062336Z
UID:168c07fd6fbf44dd9c6a60f0dfd35707@www.isprambiente.gov.it
CREATED;VALUE=DATE-TIME:20161012T185309Z
LAST-MODIFIED;VALUE=DATE-TIME:20230120T134232Z
LOCATION:ISPRA - Sala Conferenze
URL:https://www.isprambiente.gov.it/it/archivio/eventi/2016/10/presentazio
 ne-del-volume-biology-ecology-and-culture-of-grey-mullet-mugilidae
END:VEVENT
BEGIN:VTIMEZONE
TZID:Europe/Berlin
X-LIC-LOCATION:Europe/Berlin
BEGIN:DAYLIGHT
DTSTART;VALUE=DATE-TIME:20160327T030000
TZNAME:CEST
TZOFFSETFROM:+0100
TZOFFSETTO:+0200
END:DAYLIGHT
END:VTIMEZONE
END:VCALENDAR
