BEGIN:VCALENDAR
VERSION:2.0
PRODID:-//Plone.org//NONSGML plone.app.event//EN
X-WR-TIMEZONE:Europe/Berlin
BEGIN:VEVENT
SUMMARY:Le analisi granulometriche nei sedimenti marini
DTSTART;TZID=Europe/Berlin;VALUE=DATE-TIME:20161117T090000
DTEND;TZID=Europe/Berlin;VALUE=DATE-TIME:20161117T170000
DTSTAMP;VALUE=DATE-TIME:20260423T061608Z
UID:59a2a3c6308a4be0bce749e525e8a943@www.isprambiente.gov.it
CREATED;VALUE=DATE-TIME:20161028T135509Z
DESCRIPTION:Risultati del I circuito di intercalibrazione per le analisi g
 ranulometriche
LAST-MODIFIED;VALUE=DATE-TIME:20230120T134232Z
LOCATION:Roma\, Auditorium MATTM\, via C. Bavastro\, 174
URL:https://www.isprambiente.gov.it/it/archivio/eventi/2016/11/le-analisi-
 granulometriche-nei-sedimenti-marini
END:VEVENT
BEGIN:VTIMEZONE
TZID:Europe/Berlin
X-LIC-LOCATION:Europe/Berlin
BEGIN:STANDARD
DTSTART;VALUE=DATE-TIME:20161030T020000
TZNAME:CET
TZOFFSETFROM:+0200
TZOFFSETTO:+0100
END:STANDARD
END:VTIMEZONE
END:VCALENDAR
