BEGIN:VCALENDAR
VERSION:2.0
PRODID:-//Plone.org//NONSGML plone.app.event//EN
X-WR-TIMEZONE:Europe/Berlin
BEGIN:VEVENT
SUMMARY:Tavolo Nazionale Erosione Costiera (TNEC)
DTSTART;TZID=Europe/Berlin;VALUE=DATE-TIME:20161108T140000
DTEND;TZID=Europe/Berlin;VALUE=DATE-TIME:20161108T164500
DTSTAMP;VALUE=DATE-TIME:20260423T062105Z
UID:1d798c06eabc4f0a9adf9aa323bc2cb8@www.isprambiente.gov.it
CREATED;VALUE=DATE-TIME:20161017T163906Z
LAST-MODIFIED;VALUE=DATE-TIME:20230120T134232Z
LOCATION:Rimini\, c/o Ecomondo 2016
URL:https://www.isprambiente.gov.it/it/archivio/eventi/2016/11/tavolo-nazi
 onale-erosione-costiera-tnec
END:VEVENT
BEGIN:VTIMEZONE
TZID:Europe/Berlin
X-LIC-LOCATION:Europe/Berlin
BEGIN:STANDARD
DTSTART;VALUE=DATE-TIME:20161030T020000
TZNAME:CET
TZOFFSETFROM:+0200
TZOFFSETTO:+0100
END:STANDARD
END:VTIMEZONE
END:VCALENDAR
