BEGIN:VCALENDAR
VERSION:2.0
PRODID:-//Plone.org//NONSGML plone.app.event//EN
X-WR-TIMEZONE:Europe/Berlin
BEGIN:VEVENT
SUMMARY:Secondo workshop “Ricerca e servizi: i siti inquinati nel sistem
 a nazionale per la protezione dell’ambiente”
DTSTART;TZID=Europe/Berlin;VALUE=DATE-TIME:20170222T090000
DTEND;TZID=Europe/Berlin;VALUE=DATE-TIME:20170222T160000
DTSTAMP;VALUE=DATE-TIME:20260423T075112Z
UID:9fa568dbbb394b9c8a66a63692dca57e@www.isprambiente.gov.it
CREATED;VALUE=DATE-TIME:20170206T164552Z
LAST-MODIFIED;VALUE=DATE-TIME:20230120T134220Z
LOCATION:Roma - Sala Auditorium Mattm
URL:https://www.isprambiente.gov.it/it/archivio/eventi/2017/febbraio/secon
 do-workshop-201cricerca-e-servizi-i-siti-inquinati-nel-sistema-nazionale-p
 er-la-protezione-dell2019ambiente201d-1
END:VEVENT
BEGIN:VTIMEZONE
TZID:Europe/Berlin
X-LIC-LOCATION:Europe/Berlin
BEGIN:STANDARD
DTSTART;VALUE=DATE-TIME:20161030T020000
TZNAME:CET
TZOFFSETFROM:+0200
TZOFFSETTO:+0100
END:STANDARD
END:VTIMEZONE
END:VCALENDAR
