BEGIN:VCALENDAR
VERSION:2.0
PRODID:-//Plone.org//NONSGML plone.app.event//EN
X-WR-TIMEZONE:Europe/Berlin
BEGIN:VEVENT
SUMMARY:Colori profondi del Mediterraneo - Mostra fotografica
DTSTART;TZID=Europe/Berlin;VALUE=DATE-TIME:20170713T000000
DTEND;TZID=Europe/Berlin;VALUE=DATE-TIME:20170820T000000
DTSTAMP;VALUE=DATE-TIME:20260423T070923Z
UID:a7d2b35d071c4c15aeb3eb56a477d2b2@www.isprambiente.gov.it
CREATED;VALUE=DATE-TIME:20170711T123824Z
LAST-MODIFIED;VALUE=DATE-TIME:20230120T134220Z
LOCATION:Procida\, chiesa sconsacrata di San Giacomo
URL:https://www.isprambiente.gov.it/it/archivio/eventi/2017/luglio/colori-
 profondi-del-mediterraneo-mostra-fotografica
END:VEVENT
BEGIN:VTIMEZONE
TZID:Europe/Berlin
X-LIC-LOCATION:Europe/Berlin
BEGIN:DAYLIGHT
DTSTART;VALUE=DATE-TIME:20170326T030000
TZNAME:CEST
TZOFFSETFROM:+0100
TZOFFSETTO:+0200
END:DAYLIGHT
END:VTIMEZONE
END:VCALENDAR
