BEGIN:VCALENDAR
VERSION:2.0
PRODID:-//Plone.org//NONSGML plone.app.event//EN
X-WR-TIMEZONE:Europe/Berlin
BEGIN:VEVENT
SUMMARY:Colori profondi del Mediterraneo. Mostra fotografica
DTSTART;TZID=Europe/Berlin;VALUE=DATE-TIME:20170505T093000
DTEND;TZID=Europe/Berlin;VALUE=DATE-TIME:20170514T210000
DTSTAMP;VALUE=DATE-TIME:20260423T091712Z
UID:a076d7f5f6ec4a7eb33425ca9775aafd@www.isprambiente.gov.it
CREATED;VALUE=DATE-TIME:20170420T103217Z
LAST-MODIFIED;VALUE=DATE-TIME:20230120T134220Z
LOCATION:Nettuno\, Forte Sangallo\, via Antonio Gramsci 5
URL:https://www.isprambiente.gov.it/it/archivio/eventi/2017/maggio/colori-
 profondi-del-mediterraneo.-mostra-fotografica
END:VEVENT
BEGIN:VTIMEZONE
TZID:Europe/Berlin
X-LIC-LOCATION:Europe/Berlin
BEGIN:DAYLIGHT
DTSTART;VALUE=DATE-TIME:20170326T030000
TZNAME:CEST
TZOFFSETFROM:+0100
TZOFFSETTO:+0200
END:DAYLIGHT
END:VTIMEZONE
END:VCALENDAR
