BEGIN:VCALENDAR
VERSION:2.0
PRODID:-//Plone.org//NONSGML plone.app.event//EN
X-WR-TIMEZONE:Europe/Berlin
BEGIN:VEVENT
SUMMARY:Giornata di presentazione del core set di indicatori del SNPA
DTSTART;TZID=Europe/Berlin;VALUE=DATE-TIME:20170322T090000
DTEND;TZID=Europe/Berlin;VALUE=DATE-TIME:20170322T133000
DTSTAMP;VALUE=DATE-TIME:20260423T074936Z
UID:4b91845baf0b4b3cb77cca3d96e6592d@www.isprambiente.gov.it
CREATED;VALUE=DATE-TIME:20170306T155841Z
LAST-MODIFIED;VALUE=DATE-TIME:20230120T134220Z
LOCATION:Roma\, Sala Marconi c/o CNR\, P.le Aldo Moro 7
URL:https://www.isprambiente.gov.it/it/archivio/eventi/2017/marzo/giornata
 -di-presentazione-del-core-set-di-indicatori-di-snpa
END:VEVENT
BEGIN:VTIMEZONE
TZID:Europe/Berlin
X-LIC-LOCATION:Europe/Berlin
BEGIN:STANDARD
DTSTART;VALUE=DATE-TIME:20161030T020000
TZNAME:CET
TZOFFSETFROM:+0200
TZOFFSETTO:+0100
END:STANDARD
END:VTIMEZONE
END:VCALENDAR
