BEGIN:VCALENDAR
VERSION:2.0
PRODID:-//Plone.org//NONSGML plone.app.event//EN
X-WR-TIMEZONE:Europe/Berlin
BEGIN:VEVENT
SUMMARY:Rapporto Rifiuti Urbani - Edizione 2017 
DTSTART;TZID=Europe/Berlin;VALUE=DATE-TIME:20171031T093000
DTEND;TZID=Europe/Berlin;VALUE=DATE-TIME:20171031T130000
DTSTAMP;VALUE=DATE-TIME:20260423T172342Z
UID:5352ab1e4d7f4f18af123c0abd7a104d@www.isprambiente.gov.it
CREATED;VALUE=DATE-TIME:20171011T094229Z
LAST-MODIFIED;VALUE=DATE-TIME:20230120T134220Z
LOCATION:Roma\, Auditorium MATTM\, Via C. Bavastro\, 180
URL:https://www.isprambiente.gov.it/it/archivio/eventi/2017/ottobre/rappor
 to-rifiuti-urbani-edizione-2017
END:VEVENT
BEGIN:VTIMEZONE
TZID:Europe/Berlin
X-LIC-LOCATION:Europe/Berlin
BEGIN:STANDARD
DTSTART;VALUE=DATE-TIME:20171029T020000
TZNAME:CET
TZOFFSETFROM:+0200
TZOFFSETTO:+0100
END:STANDARD
END:VTIMEZONE
END:VCALENDAR
