BEGIN:VCALENDAR
VERSION:2.0
PRODID:-//Plone.org//NONSGML plone.app.event//EN
X-WR-TIMEZONE:Europe/Berlin
BEGIN:VEVENT
SUMMARY:Conferenza di presentazione del Progetto LIFE Lagoon Refresh
DTSTART;TZID=Europe/Berlin;VALUE=DATE-TIME:20180320T091500
DTEND;TZID=Europe/Berlin;VALUE=DATE-TIME:20180320T130000
DTSTAMP;VALUE=DATE-TIME:20260423T074937Z
UID:c69075d7a2b64a2cb067d0e0ee10dd44@www.isprambiente.gov.it
CREATED;VALUE=DATE-TIME:20180302T133127Z
LAST-MODIFIED;VALUE=DATE-TIME:20230120T134219Z
LOCATION:Venezia
URL:https://www.isprambiente.gov.it/it/archivio/eventi/2018/03/conferenza-
 di-presentazione-del-life-lagoon-refresh
END:VEVENT
BEGIN:VTIMEZONE
TZID:Europe/Berlin
X-LIC-LOCATION:Europe/Berlin
BEGIN:STANDARD
DTSTART;VALUE=DATE-TIME:20171029T020000
TZNAME:CET
TZOFFSETFROM:+0200
TZOFFSETTO:+0100
END:STANDARD
END:VTIMEZONE
END:VCALENDAR
