BEGIN:VCALENDAR
VERSION:2.0
PRODID:-//Plone.org//NONSGML plone.app.event//EN
X-WR-TIMEZONE:Europe/Berlin
BEGIN:VEVENT
SUMMARY:Ripristino delle lagune costiere - conferenza finale Life SERESTO
DTSTART;TZID=Europe/Berlin;VALUE=DATE-TIME:20180411T090000
DTEND;TZID=Europe/Berlin;VALUE=DATE-TIME:20180411T180000
DTSTAMP;VALUE=DATE-TIME:20260423T074855Z
UID:d778a7dbbf484fb482f8570848b76e74@www.isprambiente.gov.it
CREATED;VALUE=DATE-TIME:20180326T113205Z
LAST-MODIFIED;VALUE=DATE-TIME:20230120T134219Z
LOCATION:Roma - Circolo sottoufficiali  Marina Militare\, Viale di Tor di 
 Quinto 111
URL:https://www.isprambiente.gov.it/it/archivio/eventi/2018/04/conferenza-
 finale-life-seresto
END:VEVENT
BEGIN:VTIMEZONE
TZID:Europe/Berlin
X-LIC-LOCATION:Europe/Berlin
BEGIN:DAYLIGHT
DTSTART;VALUE=DATE-TIME:20180325T030000
TZNAME:CEST
TZOFFSETFROM:+0100
TZOFFSETTO:+0200
END:DAYLIGHT
END:VTIMEZONE
END:VCALENDAR
