BEGIN:VCALENDAR
VERSION:2.0
PRODID:-//Plone.org//NONSGML plone.app.event//EN
X-WR-TIMEZONE:Europe/Berlin
BEGIN:VEVENT
SUMMARY:Gas serra: inventario delle emissioni\, proiezioni al 2030 e polit
 iche sul clima
DTSTART;TZID=Europe/Berlin;VALUE=DATE-TIME:20180515T090000
DTEND;TZID=Europe/Berlin;VALUE=DATE-TIME:20180515T120000
DTSTAMP;VALUE=DATE-TIME:20260420T171726Z
UID:7f501305e4f141859e02098ae1270861@www.isprambiente.gov.it
CREATED;VALUE=DATE-TIME:20180504T133804Z
LAST-MODIFIED;VALUE=DATE-TIME:20230120T134219Z
LOCATION:Roma\, Auditorium MATTM\, Via Capitan Bavastro 180
URL:https://www.isprambiente.gov.it/it/archivio/eventi/2018/05/gas-serra-i
 nventario-emissioni
END:VEVENT
BEGIN:VTIMEZONE
TZID:Europe/Berlin
X-LIC-LOCATION:Europe/Berlin
BEGIN:DAYLIGHT
DTSTART;VALUE=DATE-TIME:20180325T030000
TZNAME:CEST
TZOFFSETFROM:+0100
TZOFFSETTO:+0200
END:DAYLIGHT
END:VTIMEZONE
END:VCALENDAR
